Package: Anaquin Version: 2.30.0 Command: /Library/Frameworks/R.framework/Resources/bin/R CMD INSTALL Anaquin StartedAt: 2025-01-30 15:32:07 -0500 (Thu, 30 Jan 2025) EndedAt: 2025-01-30 15:32:19 -0500 (Thu, 30 Jan 2025) EllapsedTime: 11.4 seconds RetCode: 0 Status: OK