Package: Anaquin Version: 2.30.0 Command: /home/biocbuild/bbs-3.20-bioc/R/bin/R CMD check --install=check:Anaquin.install-out.txt --library=/home/biocbuild/bbs-3.20-bioc/R/site-library --timings Anaquin_2.30.0.tar.gz StartedAt: 2025-02-03 20:01:50 -0500 (Mon, 03 Feb 2025) EndedAt: 2025-02-03 20:02:58 -0500 (Mon, 03 Feb 2025) EllapsedTime: 68.1 seconds RetCode: 0 Status: OK CheckDir: Anaquin.Rcheck Warnings: 0