Package: Anaquin Version: 2.30.0 Command: /home/biocbuild/R/R/bin/R CMD INSTALL Anaquin StartedAt: 2025-02-03 20:38:00 -0000 (Mon, 03 Feb 2025) EndedAt: 2025-02-03 20:38:06 -0000 (Mon, 03 Feb 2025) EllapsedTime: 6.4 seconds RetCode: 0 Status: OK