Package: AneuFinder Version: 1.34.0 Command: rm -rf AneuFinder.buildbin-libdir && mkdir AneuFinder.buildbin-libdir && /Users/biocbuild/BBS/utils/build-universal.sh AneuFinder_1.34.0.tar.gz /Library/Frameworks/R.framework/Resources/bin/R AneuFinder.buildbin-libdir StartedAt: 2025-02-05 14:47:15 -0500 (Wed, 05 Feb 2025) EndedAt: 2025-02-05 14:48:06 -0500 (Wed, 05 Feb 2025) EllapsedTime: 50.9 seconds RetCode: 0 Status: OK PackageFile: AneuFinder_1.34.0.tgz PackageFileSize: 2.451 MiB