Package: AneuFinder Version: 1.34.0 Command: /Library/Frameworks/R.framework/Resources/bin/R CMD check --install=check:AneuFinder.install-out.txt --library=/Library/Frameworks/R.framework/Resources/library --no-vignettes --timings AneuFinder_1.34.0.tar.gz StartedAt: 2025-02-04 11:11:57 -0500 (Tue, 04 Feb 2025) EndedAt: 2025-02-04 11:23:25 -0500 (Tue, 04 Feb 2025) EllapsedTime: 687.4 seconds RetCode: 0 Status: OK CheckDir: AneuFinder.Rcheck Warnings: 0