Package: AneuFinder Version: 1.34.0 Command: /Library/Frameworks/R.framework/Resources/bin/R CMD INSTALL AneuFinder StartedAt: 2025-02-03 15:47:10 -0500 (Mon, 03 Feb 2025) EndedAt: 2025-02-03 15:47:55 -0500 (Mon, 03 Feb 2025) EllapsedTime: 44.4 seconds RetCode: 0 Status: OK