Package: AneuFinder Version: 1.34.0 Command: /Library/Frameworks/R.framework/Resources/bin/R CMD build --keep-empty-dirs --no-resave-data AneuFinder StartedAt: 2025-02-10 16:54:36 -0500 (Mon, 10 Feb 2025) EndedAt: 2025-02-10 17:02:35 -0500 (Mon, 10 Feb 2025) EllapsedTime: 479.4 seconds RetCode: 0 Status: OK PackageFile: AneuFinder_1.34.0.tar.gz PackageFileSize: 2.021 MiB