Package: AneuFinder Version: 1.34.0 Command: /home/biocbuild/R/R/bin/R CMD build --keep-empty-dirs --no-resave-data AneuFinder StartedAt: 2025-02-03 21:35:16 -0000 (Mon, 03 Feb 2025) EndedAt: 2025-02-03 21:39:16 -0000 (Mon, 03 Feb 2025) EllapsedTime: 240.1 seconds RetCode: 0 Status: OK PackageFile: AneuFinder_1.34.0.tar.gz PackageFileSize: 2.009 MiB