############################################################################## ############################################################################## ### ### Running command: ### ### /home/biocbuild/R/R/bin/R CMD check --install=check:AneuFinder.install-out.txt --library=/home/biocbuild/R/R/site-library --no-vignettes --timings AneuFinder_1.34.0.tar.gz ### ############################################################################## ############################################################################## * using log directory ‘/home/biocbuild/bbs-3.20-bioc/meat/AneuFinder.Rcheck’ * using R version 4.4.2 (2024-10-31) * using platform: aarch64-unknown-linux-gnu * R was compiled by aarch64-unknown-linux-gnu-gcc (GCC) 14.2.0 GNU Fortran (GCC) 12.3.1 (openEuler 12.3.1-36.oe2403) * running under: openEuler 24.03 (LTS) * using session charset: UTF-8 * using option ‘--no-vignettes’ * checking for file ‘AneuFinder/DESCRIPTION’ ... OK * checking extension type ... Package * this is package ‘AneuFinder’ version ‘1.34.0’ * checking package namespace information ... OK * checking package dependencies ... OK * checking if this is a source package ... OK * checking if there is a namespace ... OK * checking for hidden files and directories ... OK * checking for portable file names ... OK * checking for sufficient/correct file permissions ... OK * checking whether package ‘AneuFinder’ can be installed ... OK * used C++ compiler: ‘aarch64-unknown-linux-gnu-g++ (GCC) 14.2.0’ * checking installed package size ... OK * checking package directory ... OK * checking ‘build’ directory ... OK * checking DESCRIPTION meta-information ... OK * checking top-level files ... OK * checking for left-over files ... OK * checking index information ... OK * checking package subdirectories ... OK * checking code files for non-ASCII characters ... OK * checking R files for syntax errors ... OK * checking whether the package can be loaded ... OK * checking whether the package can be loaded with stated dependencies ... OK * checking whether the package can be unloaded cleanly ... OK * checking whether the namespace can be loaded with stated dependencies ... OK * checking whether the namespace can be unloaded cleanly ... OK * checking loading without being on the library search path ... OK * checking whether startup messages can be suppressed ... OK * checking dependencies in R code ... OK * checking S3 generic/method consistency ... OK * checking replacement functions ... OK * checking foreign function calls ... OK * checking R code for possible problems ... NOTE Aneufinder: multiple local function definitions for ‘parallel.helper’ with different formal arguments * checking Rd files ... OK * checking Rd metadata ... OK * checking Rd cross-references ... OK * checking for missing documentation entries ... OK * checking for code/documentation mismatches ... OK * checking Rd \usage sections ... OK * checking Rd contents ... OK * checking for unstated dependencies in examples ... OK * checking line endings in C/C++/Fortran sources/headers ... OK * checking compiled code ... NOTE Note: information on .o files is not available * checking files in ‘vignettes’ ... OK * checking examples ... OK Examples with CPU (user + system) or elapsed time > 5s user system elapsed refineBreakpoints 75.435 0.571 105.704 simulateReads 63.397 3.258 95.856 heatmapAneuploidies 64.860 0.178 87.207 plotHeterogeneity 40.582 0.438 50.059 heatmapGenomewideClusters 35.485 0.263 47.861 karyotypeMeasures 31.549 0.169 41.155 heatmapGenomewide 31.113 0.254 42.931 correctGC 27.640 2.562 44.789 annotateBreakpoints 19.218 0.299 28.100 getBreakpoints 15.783 0.195 19.064 consensusSegments 12.277 0.151 17.060 getSCEcoordinates 7.257 0.100 13.520 subsetByCNVprofile 7.329 0.011 8.735 findCNVs.strandseq 6.293 0.121 7.592 findCNVs 5.665 0.408 8.060 variableWidthBins 5.827 0.024 8.917 loadFromFiles 4.541 0.028 5.018 * checking for unstated dependencies in ‘tests’ ... OK * checking tests ... Running ‘testthat.R’ OK * checking for unstated dependencies in vignettes ... OK * checking package vignettes ... OK * checking running R code from vignettes ... SKIPPED * checking re-building of vignette outputs ... SKIPPED * checking PDF version of manual ... OK * DONE Status: 2 NOTEs See ‘/home/biocbuild/bbs-3.20-bioc/meat/AneuFinder.Rcheck/00check.log’ for details.