Package: AnnotationForge Version: 1.48.0 Command: /Library/Frameworks/R.framework/Resources/bin/R CMD INSTALL AnnotationForge StartedAt: 2025-02-03 15:36:08 -0500 (Mon, 03 Feb 2025) EndedAt: 2025-02-03 15:36:52 -0500 (Mon, 03 Feb 2025) EllapsedTime: 44.4 seconds RetCode: 0 Status: OK