Package: AnnotationForge Version: 1.48.0 Command: /home/biocbuild/bbs-3.20-bioc/R/bin/R CMD build --keep-empty-dirs --no-resave-data --md5 AnnotationForge StartedAt: 2025-02-03 16:20:00 -0500 (Mon, 03 Feb 2025) EndedAt: 2025-02-03 16:40:45 -0500 (Mon, 03 Feb 2025) EllapsedTime: 1244.2 seconds RetCode: 0 Status: OK PackageFile: AnnotationForge_1.48.0.tar.gz PackageFileSize: 3.849 MiB