Package: AnnotationForge Version: 1.48.0 Command: chmod a+r AnnotationForge -R && F:\biocbuild\bbs-3.20-bioc\R\bin\R.exe CMD build --keep-empty-dirs --no-resave-data AnnotationForge StartedAt: 2025-02-03 17:28:51 -0500 (Mon, 03 Feb 2025) EndedAt: 2025-02-03 17:36:04 -0500 (Mon, 03 Feb 2025) EllapsedTime: 432.3 seconds RetCode: 0 Status: OK PackageFile: AnnotationForge_1.48.0.tar.gz PackageFileSize: 3.813 MiB