Package: AnnotationForge Version: 1.48.0 Command: /home/biocbuild/R/R/bin/R CMD check --install=check:AnnotationForge.install-out.txt --library=/home/biocbuild/R/R/site-library --no-vignettes --timings AnnotationForge_1.48.0.tar.gz StartedAt: 2025-01-24 04:10:15 -0000 (Fri, 24 Jan 2025) EndedAt: 2025-01-24 04:12:34 -0000 (Fri, 24 Jan 2025) EllapsedTime: 138.3 seconds RetCode: 0 Status: OK CheckDir: AnnotationForge.Rcheck Warnings: 0