Package: AnnotationHub Version: 3.14.0 Command: /Library/Frameworks/R.framework/Resources/bin/R CMD build --keep-empty-dirs --no-resave-data AnnotationHub StartedAt: 2025-01-30 18:50:08 -0500 (Thu, 30 Jan 2025) EndedAt: 2025-01-30 18:53:05 -0500 (Thu, 30 Jan 2025) EllapsedTime: 177.2 seconds RetCode: 0 Status: OK PackageFile: AnnotationHub_3.14.0.tar.gz PackageFileSize: 976.1 KiB