Package: AnnotationHub Version: 3.14.0 Command: /Library/Frameworks/R.framework/Resources/bin/R CMD INSTALL AnnotationHub StartedAt: 2025-01-30 15:42:41 -0500 (Thu, 30 Jan 2025) EndedAt: 2025-01-30 15:43:02 -0500 (Thu, 30 Jan 2025) EllapsedTime: 20.5 seconds RetCode: 0 Status: OK