Package: AnnotationHub Version: 3.14.0 Command: /home/biocbuild/R/R/bin/R CMD build --keep-empty-dirs --no-resave-data AnnotationHub StartedAt: 2025-01-30 21:31:23 -0000 (Thu, 30 Jan 2025) EndedAt: 2025-01-30 21:34:51 -0000 (Thu, 30 Jan 2025) EllapsedTime: 208.1 seconds RetCode: 0 Status: OK PackageFile: AnnotationHub_3.14.0.tar.gz PackageFileSize: 1.023 MiB