Package: AnnotationHub Version: 3.14.0 Command: /home/biocbuild/R/R/bin/R CMD check --install=check:AnnotationHub.install-out.txt --library=/home/biocbuild/R/R/site-library --no-vignettes --timings AnnotationHub_3.14.0.tar.gz StartedAt: 2025-02-04 04:20:51 -0000 (Tue, 04 Feb 2025) EndedAt: 2025-02-04 04:42:52 -0000 (Tue, 04 Feb 2025) EllapsedTime: 1320.9 seconds RetCode: 0 Status: OK CheckDir: AnnotationHub.Rcheck Warnings: 0