Package: AnnotationHub Version: 3.14.0 Command: /home/biocbuild/R/R/bin/R CMD INSTALL AnnotationHub StartedAt: 2025-02-03 20:37:35 -0000 (Mon, 03 Feb 2025) EndedAt: 2025-02-03 20:37:58 -0000 (Mon, 03 Feb 2025) EllapsedTime: 23.3 seconds RetCode: 0 Status: OK