Package: AnnotationHub Version: 3.14.0 Command: /home/biocbuild/bbs-3.20-bioc/R/bin/R CMD build --keep-empty-dirs --no-resave-data AnnotationHub StartedAt: 2024-11-19 17:28:38 -0500 (Tue, 19 Nov 2024) EndedAt: 2024-11-19 17:30:44 -0500 (Tue, 19 Nov 2024) EllapsedTime: 125.7 seconds RetCode: 0 Status: OK PackageFile: AnnotationHub_3.14.0.tar.gz PackageFileSize: 976.2 KiB