Package: AnnotationHubData Version: 1.36.0 Command: rm -rf AnnotationHubData.buildbin-libdir && mkdir AnnotationHubData.buildbin-libdir && /Users/biocbuild/BBS/utils/build-universal.sh AnnotationHubData_1.36.0.tar.gz /Library/Frameworks/R.framework/Resources/bin/R AnnotationHubData.buildbin-libdir StartedAt: 2025-02-01 13:53:12 -0500 (Sat, 01 Feb 2025) EndedAt: 2025-02-01 13:54:07 -0500 (Sat, 01 Feb 2025) EllapsedTime: 54.9 seconds RetCode: 0 Status: OK PackageFile: AnnotationHubData_1.36.0.tgz PackageFileSize: 930.2 KiB