Package: AnnotationHubData Version: 1.36.0 Command: /Library/Frameworks/R.framework/Resources/bin/R CMD INSTALL AnnotationHubData StartedAt: 2025-01-30 16:30:45 -0500 (Thu, 30 Jan 2025) EndedAt: 2025-01-30 16:31:36 -0500 (Thu, 30 Jan 2025) EllapsedTime: 50.3 seconds RetCode: 0 Status: OK