Package: AnnotationHubData Version: 1.36.0 Command: /Library/Frameworks/R.framework/Resources/bin/R CMD build --keep-empty-dirs --no-resave-data AnnotationHubData StartedAt: 2025-01-30 17:06:58 -0500 (Thu, 30 Jan 2025) EndedAt: 2025-01-30 17:08:54 -0500 (Thu, 30 Jan 2025) EllapsedTime: 115.4 seconds RetCode: 0 Status: OK PackageFile: AnnotationHubData_1.36.0.tar.gz PackageFileSize: 400.4 KiB