Package: AnnotationHubData Version: 1.36.0 Command: /home/biocbuild/bbs-3.20-bioc/R/bin/R CMD INSTALL AnnotationHubData StartedAt: 2025-01-30 15:29:49 -0500 (Thu, 30 Jan 2025) EndedAt: 2025-01-30 15:30:32 -0500 (Thu, 30 Jan 2025) EllapsedTime: 43.3 seconds RetCode: 0 Status: OK