Package: AnnotationHubData Version: 1.36.0 Command: rm -rf AnnotationHubData.buildbin-libdir && mkdir AnnotationHubData.buildbin-libdir && F:\biocbuild\bbs-3.20-bioc\R\bin\R.exe CMD INSTALL --build --library=AnnotationHubData.buildbin-libdir AnnotationHubData_1.36.0.tar.gz StartedAt: 2025-01-31 08:08:36 -0500 (Fri, 31 Jan 2025) EndedAt: 2025-01-31 08:14:25 -0500 (Fri, 31 Jan 2025) EllapsedTime: 349.3 seconds RetCode: 0 Status: OK PackageFile: AnnotationHubData_1.36.0.zip PackageFileSize: 938.6 KiB