Package: AnnotationHubData Version: 1.36.0 Command: chmod a+r AnnotationHubData -R && F:\biocbuild\bbs-3.20-bioc\R\bin\R.exe CMD build --keep-empty-dirs --no-resave-data AnnotationHubData StartedAt: 2025-01-30 17:17:24 -0500 (Thu, 30 Jan 2025) EndedAt: 2025-01-30 17:19:46 -0500 (Thu, 30 Jan 2025) EllapsedTime: 141.9 seconds RetCode: 0 Status: OK PackageFile: AnnotationHubData_1.36.0.tar.gz PackageFileSize: 400.4 KiB