Package: AnnotationHubData Version: 1.36.0 Command: /home/biocbuild/R/R/bin/R CMD build --keep-empty-dirs --no-resave-data AnnotationHubData StartedAt: 2025-02-10 21:20:12 -0000 (Mon, 10 Feb 2025) EndedAt: 2025-02-10 21:21:05 -0000 (Mon, 10 Feb 2025) EllapsedTime: 53.0 seconds RetCode: 0 Status: OK PackageFile: AnnotationHubData_1.36.0.tar.gz PackageFileSize: 425.3 KiB