Package: AnnotationHubData Version: 1.36.0 Command: /home/biocbuild/R/R/bin/R CMD INSTALL AnnotationHubData StartedAt: 2025-02-03 20:52:17 -0000 (Mon, 03 Feb 2025) EndedAt: 2025-02-03 20:53:08 -0000 (Mon, 03 Feb 2025) EllapsedTime: 51.5 seconds RetCode: 0 Status: OK