Package: ArrayExpress Version: 1.66.0 Command: /Library/Frameworks/R.framework/Resources/bin/R CMD INSTALL ArrayExpress StartedAt: 2025-02-03 15:39:39 -0500 (Mon, 03 Feb 2025) EndedAt: 2025-02-03 15:39:55 -0500 (Mon, 03 Feb 2025) EllapsedTime: 15.4 seconds RetCode: 0 Status: OK