Package: ArrayExpress Version: 1.66.0 Command: F:\biocbuild\bbs-3.20-bioc\R\bin\R.exe CMD check --no-multiarch --install=check:ArrayExpress.install-out.txt --library=F:\biocbuild\bbs-3.20-bioc\R\library --no-vignettes --timings ArrayExpress_1.66.0.tar.gz StartedAt: 2025-02-10 23:06:54 -0500 (Mon, 10 Feb 2025) EndedAt: 2025-02-10 23:12:25 -0500 (Mon, 10 Feb 2025) EllapsedTime: 331.6 seconds RetCode: 0 Status: OK CheckDir: ArrayExpress.Rcheck Warnings: 0