Package: ArrayExpress Version: 1.66.0 Command: /home/biocbuild/R/R/bin/R CMD build --keep-empty-dirs --no-resave-data ArrayExpress StartedAt: 2025-02-03 21:37:30 -0000 (Mon, 03 Feb 2025) EndedAt: 2025-02-03 21:44:36 -0000 (Mon, 03 Feb 2025) EllapsedTime: 426.1 seconds RetCode: 0 Status: OK PackageFile: ArrayExpress_1.66.0.tar.gz PackageFileSize: 133.7 KiB