Package: ArrayExpress Version: 1.66.0 Command: /home/biocbuild/R/R/bin/R CMD INSTALL ArrayExpress StartedAt: 2025-02-03 20:36:34 -0000 (Mon, 03 Feb 2025) EndedAt: 2025-02-03 20:37:06 -0000 (Mon, 03 Feb 2025) EllapsedTime: 32.4 seconds RetCode: 0 Status: OK