Package: BADER Version: 1.44.0 Command: /Library/Frameworks/R.framework/Resources/bin/R CMD INSTALL BADER StartedAt: 2025-02-10 15:02:15 -0500 (Mon, 10 Feb 2025) EndedAt: 2025-02-10 15:02:19 -0500 (Mon, 10 Feb 2025) EllapsedTime: 3.5 seconds RetCode: 0 Status: OK