Package: BADER Version: 1.44.0 Command: /Library/Frameworks/R.framework/Resources/bin/R CMD build --keep-empty-dirs --no-resave-data BADER StartedAt: 2025-02-03 17:09:44 -0500 (Mon, 03 Feb 2025) EndedAt: 2025-02-03 17:10:20 -0500 (Mon, 03 Feb 2025) EllapsedTime: 35.8 seconds RetCode: 0 Status: OK PackageFile: BADER_1.44.0.tar.gz PackageFileSize: 238.3 KiB