Package: BADER Version: 1.44.0 Command: chmod a+r BADER -R && F:\biocbuild\bbs-3.20-bioc\R\bin\R.exe CMD build --keep-empty-dirs --no-resave-data BADER StartedAt: 2025-02-03 17:35:35 -0500 (Mon, 03 Feb 2025) EndedAt: 2025-02-03 17:36:13 -0500 (Mon, 03 Feb 2025) EllapsedTime: 37.6 seconds RetCode: 0 Status: OK PackageFile: BADER_1.44.0.tar.gz PackageFileSize: 148.2 KiB