Package: BAGS Version: 2.46.0 Command: rm -rf BAGS.buildbin-libdir && mkdir BAGS.buildbin-libdir && /Users/biocbuild/BBS/utils/build-universal.sh BAGS_2.46.0.tar.gz /Library/Frameworks/R.framework/Resources/bin/R BAGS.buildbin-libdir StartedAt: 2025-02-04 12:29:15 -0500 (Tue, 04 Feb 2025) EndedAt: 2025-02-04 12:29:26 -0500 (Tue, 04 Feb 2025) EllapsedTime: 10.9 seconds RetCode: 0 Status: OK PackageFile: BAGS_2.46.0.tgz PackageFileSize: 316.7 KiB