Package: BAGS Version: 2.46.0 Command: /Library/Frameworks/R.framework/Resources/bin/R CMD INSTALL BAGS StartedAt: 2025-02-03 15:12:59 -0500 (Mon, 03 Feb 2025) EndedAt: 2025-02-03 15:13:08 -0500 (Mon, 03 Feb 2025) EllapsedTime: 9.8 seconds RetCode: 0 Status: OK