Package: BAGS Version: 2.46.0 Command: /home/biocbuild/R/R/bin/R CMD build --keep-empty-dirs --no-resave-data BAGS StartedAt: 2025-02-03 21:44:36 -0000 (Mon, 03 Feb 2025) EndedAt: 2025-02-03 21:45:06 -0000 (Mon, 03 Feb 2025) EllapsedTime: 30.0 seconds RetCode: 0 Status: OK PackageFile: BAGS_2.46.0.tar.gz PackageFileSize: 270 KiB