Package: BAGS Version: 2.46.0 Command: /home/biocbuild/R/R/bin/R CMD INSTALL BAGS StartedAt: 2025-02-10 20:09:18 -0000 (Mon, 10 Feb 2025) EndedAt: 2025-02-10 20:09:23 -0000 (Mon, 10 Feb 2025) EllapsedTime: 5.2 seconds RetCode: 0 Status: OK