Package: BANDITS Version: 1.22.0 Command: /Library/Frameworks/R.framework/Resources/bin/R CMD INSTALL BANDITS StartedAt: 2025-02-03 16:14:44 -0500 (Mon, 03 Feb 2025) EndedAt: 2025-02-03 16:15:39 -0500 (Mon, 03 Feb 2025) EllapsedTime: 55.2 seconds RetCode: 0 Status: OK