Package: BANDITS Version: 1.22.0 Command: /home/biocbuild/bbs-3.20-bioc/R/bin/R CMD check --install=check:BANDITS.install-out.txt --library=/home/biocbuild/bbs-3.20-bioc/R/site-library --timings BANDITS_1.22.0.tar.gz StartedAt: 2025-01-30 20:02:05 -0500 (Thu, 30 Jan 2025) EndedAt: 2025-01-30 20:05:47 -0500 (Thu, 30 Jan 2025) EllapsedTime: 221.8 seconds RetCode: 0 Status: OK CheckDir: BANDITS.Rcheck Warnings: 0