Package: BASiCS Version: 2.18.0 Command: rm -rf BASiCS.buildbin-libdir && mkdir BASiCS.buildbin-libdir && /Users/biocbuild/BBS/utils/build-universal.sh BASiCS_2.18.0.tar.gz /Library/Frameworks/R.framework/Resources/bin/R BASiCS.buildbin-libdir StartedAt: 2025-02-01 13:58:26 -0500 (Sat, 01 Feb 2025) EndedAt: 2025-02-01 13:59:48 -0500 (Sat, 01 Feb 2025) EllapsedTime: 81.5 seconds RetCode: 0 Status: OK PackageFile: BASiCS_2.18.0.tgz PackageFileSize: 3.861 MiB