Package: BASiCS Version: 2.18.0 Command: /Library/Frameworks/R.framework/Resources/bin/R CMD build --keep-empty-dirs --no-resave-data BASiCS StartedAt: 2025-02-03 17:12:16 -0500 (Mon, 03 Feb 2025) EndedAt: 2025-02-03 17:16:21 -0500 (Mon, 03 Feb 2025) EllapsedTime: 244.5 seconds RetCode: 0 Status: OK PackageFile: BASiCS_2.18.0.tar.gz PackageFileSize: 3.298 MiB