Package: BASiCS Version: 2.18.0 Command: /Library/Frameworks/R.framework/Resources/bin/R CMD INSTALL BASiCS StartedAt: 2025-01-30 16:34:07 -0500 (Thu, 30 Jan 2025) EndedAt: 2025-01-30 16:36:38 -0500 (Thu, 30 Jan 2025) EllapsedTime: 150.9 seconds RetCode: 0 Status: OK