Package: BASiCS Version: 2.18.0 Command: F:\biocbuild\bbs-3.20-bioc\R\bin\R.exe CMD check --no-multiarch --install=check:BASiCS.install-out.txt --library=F:\biocbuild\bbs-3.20-bioc\R\library --no-vignettes --timings BASiCS_2.18.0.tar.gz StartedAt: 2025-02-03 23:19:56 -0500 (Mon, 03 Feb 2025) EndedAt: 2025-02-03 23:31:23 -0500 (Mon, 03 Feb 2025) EllapsedTime: 686.5 seconds RetCode: 0 Status: OK CheckDir: BASiCS.Rcheck Warnings: 0