Package: BASiCS Version: 2.18.0 Command: /home/biocbuild/R/R/bin/R CMD build --keep-empty-dirs --no-resave-data BASiCS StartedAt: 2025-02-03 21:46:13 -0000 (Mon, 03 Feb 2025) EndedAt: 2025-02-03 21:48:33 -0000 (Mon, 03 Feb 2025) EllapsedTime: 140.0 seconds RetCode: 0 Status: OK PackageFile: BASiCS_2.18.0.tar.gz PackageFileSize: 3.032 MiB