Package: BASiCS Version: 2.18.0 Command: /home/biocbuild/R/R/bin/R CMD check --install=check:BASiCS.install-out.txt --library=/home/biocbuild/R/R/site-library --no-vignettes --timings BASiCS_2.18.0.tar.gz StartedAt: 2025-01-31 04:00:13 -0000 (Fri, 31 Jan 2025) EndedAt: 2025-01-31 04:11:49 -0000 (Fri, 31 Jan 2025) EllapsedTime: 696.1 seconds RetCode: 0 Status: OK CheckDir: BASiCS.Rcheck Warnings: 0