Package: BASiCStan Version: 1.8.0 Command: rm -rf BASiCStan.buildbin-libdir && mkdir BASiCStan.buildbin-libdir && /Users/biocbuild/BBS/utils/build-universal.sh BASiCStan_1.8.0.tar.gz /Library/Frameworks/R.framework/Resources/bin/R BASiCStan.buildbin-libdir StartedAt: 2025-02-01 13:58:31 -0500 (Sat, 01 Feb 2025) EndedAt: 2025-02-01 14:02:31 -0500 (Sat, 01 Feb 2025) EllapsedTime: 240.0 seconds RetCode: 0 Status: OK PackageFile: BASiCStan_1.8.0.tgz PackageFileSize: 1002 KiB