Package: BASiCStan Version: 1.8.0 Command: /Library/Frameworks/R.framework/Resources/bin/R CMD build --keep-empty-dirs --no-resave-data BASiCStan StartedAt: 2025-01-30 19:16:51 -0500 (Thu, 30 Jan 2025) EndedAt: 2025-01-30 19:20:34 -0500 (Thu, 30 Jan 2025) EllapsedTime: 223.1 seconds RetCode: 0 Status: OK PackageFile: BASiCStan_1.8.0.tar.gz PackageFileSize: 76.55 KiB