Package: BASiCStan Version: 1.8.0 Command: rm -rf BASiCStan.buildbin-libdir && mkdir BASiCStan.buildbin-libdir && /Users/biocbuild/BBS/utils/build-universal.sh BASiCStan_1.8.0.tar.gz /Library/Frameworks/R.framework/Resources/bin/R BASiCStan.buildbin-libdir StartedAt: 2025-01-31 12:22:05 -0500 (Fri, 31 Jan 2025) EndedAt: 2025-01-31 12:29:57 -0500 (Fri, 31 Jan 2025) EllapsedTime: 471.8 seconds RetCode: 0 Status: OK PackageFile: BASiCStan_1.8.0.tgz PackageFileSize: 1.194 MiB