Package: BASiCStan Version: 1.8.0 Command: /Library/Frameworks/R.framework/Resources/bin/R CMD check --install=check:BASiCStan.install-out.txt --library=/Library/Frameworks/R.framework/Resources/library --no-vignettes --timings BASiCStan_1.8.0.tar.gz StartedAt: 2025-01-31 00:27:49 -0500 (Fri, 31 Jan 2025) EndedAt: 2025-01-31 00:37:17 -0500 (Fri, 31 Jan 2025) EllapsedTime: 568.0 seconds RetCode: 0 Status: OK CheckDir: BASiCStan.Rcheck Warnings: 0